BEGIN:VCALENDAR
VERSION:2.0
PRODID:-//Základní škola a Mateřská škola Dolní Bělá - ECPv6.2.0.1//NONSGML v1.0//EN
CALSCALE:GREGORIAN
METHOD:PUBLISH
X-WR-CALNAME:Základní škola a Mateřská škola Dolní Bělá
X-ORIGINAL-URL:https://www.zsamsdolnibela.cz
X-WR-CALDESC:Akce na Základní škola a Mateřská škola Dolní Bělá
REFRESH-INTERVAL;VALUE=DURATION:PT1H
X-Robots-Tag:noindex
X-PUBLISHED-TTL:PT1H
BEGIN:VTIMEZONE
TZID:Europe/Prague
BEGIN:DAYLIGHT
TZOFFSETFROM:+0100
TZOFFSETTO:+0200
TZNAME:CEST
DTSTART:20250330T010000
END:DAYLIGHT
BEGIN:STANDARD
TZOFFSETFROM:+0200
TZOFFSETTO:+0100
TZNAME:CET
DTSTART:20251026T010000
END:STANDARD
END:VTIMEZONE
BEGIN:VEVENT
DTSTART;TZID=Europe/Prague:20251011T080000
DTEND;TZID=Europe/Prague:20251011T170000
DTSTAMP:20260426T043841
CREATED:20250905T070724Z
LAST-MODIFIED:20250905T070724Z
UID:10000338-1760169600-1760202000@www.zsamsdolnibela.cz
SUMMARY:60. vlastivědný zájezd - Kněževes\, Roztoky\, Levý Hradec\, Okoř
DESCRIPTION:
URL:https://www.zsamsdolnibela.cz/event/60-vlastivedny-zajezd-knezeves-roztoky-levy-hradec-okor/
END:VEVENT
BEGIN:VEVENT
DTSTART;TZID=Europe/Prague:20251010T080000
DTEND;TZID=Europe/Prague:20251010T120000
DTSTAMP:20260426T043841
CREATED:20250827T075433Z
LAST-MODIFIED:20250827T075610Z
UID:10000322-1760083200-1760097600@www.zsamsdolnibela.cz
SUMMARY:kurz plavání - 3.\, 4. třída
DESCRIPTION:
URL:https://www.zsamsdolnibela.cz/event/kurz-plavani-3-4-trida/2025-10-10/
END:VEVENT
BEGIN:VEVENT
DTSTART;TZID=Europe/Prague:20251007T085000
DTEND;TZID=Europe/Prague:20251007T103500
DTSTAMP:20260426T043841
CREATED:20250828T070323Z
LAST-MODIFIED:20250828T070857Z
UID:10000331-1759827000-1759833300@www.zsamsdolnibela.cz
SUMMARY:preventivní program Vogue (7.třída)
DESCRIPTION:
URL:https://www.zsamsdolnibela.cz/event/preventivni-prgram-vogue-7-trida/
END:VEVENT
BEGIN:VEVENT
DTSTART;TZID=Europe/Prague:20251003T080000
DTEND;TZID=Europe/Prague:20251003T120000
DTSTAMP:20260426T043841
CREATED:20250827T075433Z
LAST-MODIFIED:20250827T075610Z
UID:10000321-1759478400-1759492800@www.zsamsdolnibela.cz
SUMMARY:kurz plavání - 3.\, 4. třída
DESCRIPTION:
URL:https://www.zsamsdolnibela.cz/event/kurz-plavani-3-4-trida/2025-10-03/
END:VEVENT
BEGIN:VEVENT
DTSTART;TZID=Europe/Prague:20251003T080000
DTEND;TZID=Europe/Prague:20251003T113000
DTSTAMP:20260426T043841
CREATED:20251003T110723Z
LAST-MODIFIED:20251003T110723Z
UID:10000358-1759478400-1759491000@www.zsamsdolnibela.cz
SUMMARY:matematická akce - minisčítání (6.\, 8.\, 9.tř)
DESCRIPTION:
URL:https://www.zsamsdolnibela.cz/event/matematicka-akce-miniscitani-6-8-9-tr/
END:VEVENT
BEGIN:VEVENT
DTSTART;TZID=Europe/Prague:20251002T080000
DTEND;TZID=Europe/Prague:20251002T150000
DTSTAMP:20260426T043841
CREATED:20250905T070618Z
LAST-MODIFIED:20250905T070618Z
UID:10000337-1759392000-1759417200@www.zsamsdolnibela.cz
SUMMARY:přehazovaná - 6.\, 7. třída - dívky
DESCRIPTION:
URL:https://www.zsamsdolnibela.cz/event/prehazovana-6-7-trida-divky/
END:VEVENT
BEGIN:VEVENT
DTSTART;TZID=Europe/Prague:20251001T080000
DTEND;TZID=Europe/Prague:20251001T093000
DTSTAMP:20260426T043841
CREATED:20250926T070511Z
LAST-MODIFIED:20250926T070511Z
UID:10000351-1759305600-1759311000@www.zsamsdolnibela.cz
SUMMARY:preventivní program Závislosti (4.třída)
DESCRIPTION:
URL:https://www.zsamsdolnibela.cz/event/preventivni-program-zavislosti-4-trida/
END:VEVENT
BEGIN:VEVENT
DTSTART;TZID=Europe/Prague:20250930T080000
DTEND;TZID=Europe/Prague:20250930T150000
DTSTAMP:20260426T043841
CREATED:20250905T070525Z
LAST-MODIFIED:20250905T070525Z
UID:10000336-1759219200-1759244400@www.zsamsdolnibela.cz
SUMMARY:přespolní běh - 6.\, 7. třída
DESCRIPTION:
URL:https://www.zsamsdolnibela.cz/event/prespolni-beh-6-7-trida/
END:VEVENT
BEGIN:VEVENT
DTSTART;TZID=Europe/Prague:20250929T160000
DTEND;TZID=Europe/Prague:20250929T170000
DTSTAMP:20260426T043841
CREATED:20250926T070309Z
LAST-MODIFIED:20250926T070309Z
UID:10000350-1759161600-1759165200@www.zsamsdolnibela.cz
SUMMARY:třídní schůzky prvních tříd
DESCRIPTION:
URL:https://www.zsamsdolnibela.cz/event/tridni-schuzky-prvnich-trid/
END:VEVENT
BEGIN:VEVENT
DTSTART;TZID=Europe/Prague:20250926T080000
DTEND;TZID=Europe/Prague:20250926T120000
DTSTAMP:20260426T043841
CREATED:20250827T075433Z
LAST-MODIFIED:20250827T075610Z
UID:10000320-1758873600-1758888000@www.zsamsdolnibela.cz
SUMMARY:kurz plavání - 3.\, 4. třída
DESCRIPTION:
URL:https://www.zsamsdolnibela.cz/event/kurz-plavani-3-4-trida/2025-09-26/
END:VEVENT
BEGIN:VEVENT
DTSTART;TZID=Europe/Prague:20250924T080000
DTEND;TZID=Europe/Prague:20250924T150000
DTSTAMP:20260426T043841
CREATED:20250905T070422Z
LAST-MODIFIED:20250905T070422Z
UID:10000335-1758700800-1758726000@www.zsamsdolnibela.cz
SUMMARY:minikopaná - 6.\,7. tř. - hoši
DESCRIPTION:
URL:https://www.zsamsdolnibela.cz/event/minikopana-6-7-tr-hosi/
END:VEVENT
BEGIN:VEVENT
DTSTART;TZID=Europe/Prague:20250919T080000
DTEND;TZID=Europe/Prague:20250919T120000
DTSTAMP:20260426T043841
CREATED:20250827T075433Z
LAST-MODIFIED:20250827T075610Z
UID:10000319-1758268800-1758283200@www.zsamsdolnibela.cz
SUMMARY:kurz plavání - 3.\, 4. třída
DESCRIPTION:
URL:https://www.zsamsdolnibela.cz/event/kurz-plavani-3-4-trida/2025-09-19/
END:VEVENT
BEGIN:VEVENT
DTSTART;TZID=Europe/Prague:20250912T080000
DTEND;TZID=Europe/Prague:20250912T120000
DTSTAMP:20260426T043841
CREATED:20250827T075433Z
LAST-MODIFIED:20250827T075610Z
UID:10000318-1757664000-1757678400@www.zsamsdolnibela.cz
SUMMARY:kurz plavání - 3.\, 4. třída
DESCRIPTION:
URL:https://www.zsamsdolnibela.cz/event/kurz-plavani-3-4-trida/2025-09-12/
END:VEVENT
BEGIN:VEVENT
DTSTART;TZID=Europe/Prague:20250905T080000
DTEND;TZID=Europe/Prague:20250905T170000
DTSTAMP:20260426T043841
CREATED:20250827T075433Z
LAST-MODIFIED:20250827T075610Z
UID:10000317-1757059200-1757091600@www.zsamsdolnibela.cz
SUMMARY:kurz plavání - 3.\, 4. třída
DESCRIPTION:
URL:https://www.zsamsdolnibela.cz/event/kurz-plavani-3-4-trida/2025-09-05/
END:VEVENT
BEGIN:VEVENT
DTSTART;TZID=Europe/Prague:20250904T100000
DTEND;TZID=Europe/Prague:20250904T110000
DTSTAMP:20260426T043841
CREATED:20250827T073228Z
LAST-MODIFIED:20250827T073228Z
UID:10000315-1756980000-1756983600@www.zsamsdolnibela.cz
SUMMARY:focení 1.tříd
DESCRIPTION:
URL:https://www.zsamsdolnibela.cz/event/foceni-1-trid/
END:VEVENT
BEGIN:VEVENT
DTSTART;TZID=Europe/Prague:20250901T080000
DTEND;TZID=Europe/Prague:20250901T084000
DTSTAMP:20260426T043841
CREATED:20250827T073414Z
LAST-MODIFIED:20250827T073414Z
UID:10000316-1756713600-1756716000@www.zsamsdolnibela.cz
SUMMARY:slavnostní zahájení nového školního roku
DESCRIPTION:
URL:https://www.zsamsdolnibela.cz/event/slavnostni-zahajeni-noveho-skolniho-roku/
END:VEVENT
BEGIN:VEVENT
DTSTART;TZID=Europe/Prague:20250828T163000
DTEND;TZID=Europe/Prague:20250828T173000
DTSTAMP:20260426T043841
CREATED:20250827T073122Z
LAST-MODIFIED:20250827T073122Z
UID:10000314-1756398600-1756402200@www.zsamsdolnibela.cz
SUMMARY:MŠ - třídní schůzky
DESCRIPTION:
URL:https://www.zsamsdolnibela.cz/event/ms-tridni-schuzky/
END:VEVENT
BEGIN:VEVENT
DTSTART;TZID=Europe/Prague:20250627T080000
DTEND;TZID=Europe/Prague:20250627T090000
DTSTAMP:20260426T043841
CREATED:20250328T105249Z
LAST-MODIFIED:20250328T105249Z
UID:10000301-1751011200-1751014800@www.zsamsdolnibela.cz
SUMMARY:předávání závěrečných vysvědčení a rozloučení s 9.třídou
DESCRIPTION:
URL:https://www.zsamsdolnibela.cz/event/predavani-zaverecnych-vysvedceni-a-rozlouceni-s-9-tridou/
END:VEVENT
BEGIN:VEVENT
DTSTART;TZID=Europe/Prague:20250626T080000
DTEND;TZID=Europe/Prague:20250626T150000
DTSTAMP:20260426T043841
CREATED:20250623T114507Z
LAST-MODIFIED:20250623T114507Z
UID:10000312-1750924800-1750950000@www.zsamsdolnibela.cz
SUMMARY:návštěva ZOO Plzeň (2.A)
DESCRIPTION:
URL:https://www.zsamsdolnibela.cz/event/navsteva-zoo-plzen-2-a/
END:VEVENT
BEGIN:VEVENT
DTSTART;TZID=Europe/Prague:20250625T080000
DTEND;TZID=Europe/Prague:20250625T140000
DTSTAMP:20260426T043841
CREATED:20250625T124843Z
LAST-MODIFIED:20250625T124843Z
UID:10000313-1750838400-1750860000@www.zsamsdolnibela.cz
SUMMARY:návštěva ZOO Plzeň (2.B)
DESCRIPTION:
URL:https://www.zsamsdolnibela.cz/event/navsteva-zoo-plzen-2-b/
END:VEVENT
BEGIN:VEVENT
DTSTART;TZID=Europe/Prague:20250624T090000
DTEND;TZID=Europe/Prague:20250624T143000
DTSTAMP:20260426T043841
CREATED:20250623T114431Z
LAST-MODIFIED:20250623T114431Z
UID:10000311-1750755600-1750775400@www.zsamsdolnibela.cz
SUMMARY:výlet Nečtiny (2.A\, 2.B)
DESCRIPTION:
URL:https://www.zsamsdolnibela.cz/event/vylet-nectiny-2-a-2-b/
END:VEVENT
BEGIN:VEVENT
DTSTART;TZID=Europe/Prague:20250624T080000
DTEND;TZID=Europe/Prague:20250624T160000
DTSTAMP:20260426T043841
CREATED:20250604T105604Z
LAST-MODIFIED:20250604T105604Z
UID:10000305-1750752000-1750780800@www.zsamsdolnibela.cz
SUMMARY:výlet 6.\, 7. třída
DESCRIPTION:
URL:https://www.zsamsdolnibela.cz/event/vylet-6-7-trida/
END:VEVENT
BEGIN:VEVENT
DTSTART;TZID=Europe/Prague:20250620T080000
DTEND;TZID=Europe/Prague:20250620T153000
DTSTAMP:20260426T043841
CREATED:20250606T063656Z
LAST-MODIFIED:20250610T083252Z
UID:10000307-1750406400-1750433400@www.zsamsdolnibela.cz
SUMMARY:školní výlet Plasy - 5.třída
DESCRIPTION:
URL:https://www.zsamsdolnibela.cz/event/skolni-vylet-5-trida-2/
END:VEVENT
BEGIN:VEVENT
DTSTART;TZID=Europe/Prague:20250618T161500
DTEND;TZID=Europe/Prague:20250618T173000
DTSTAMP:20260426T043841
CREATED:20250610T083125Z
LAST-MODIFIED:20250610T083125Z
UID:10000310-1750263300-1750267800@www.zsamsdolnibela.cz
SUMMARY:zasedání školské rady
DESCRIPTION:
URL:https://www.zsamsdolnibela.cz/event/zasedani-skolske-rady-2/
END:VEVENT
BEGIN:VEVENT
DTSTART;TZID=Europe/Prague:20250618T080000
DTEND;TZID=Europe/Prague:20250620T170000
DTSTAMP:20260426T043841
CREATED:20250107T123939Z
LAST-MODIFIED:20250107T123939Z
UID:10000261-1750233600-1750438800@www.zsamsdolnibela.cz
SUMMARY:cyklovýlet (7.-9.)
DESCRIPTION:
URL:https://www.zsamsdolnibela.cz/event/cyklovylet-7-9/
END:VEVENT
BEGIN:VEVENT
DTSTART;TZID=Europe/Prague:20250612T080000
DTEND;TZID=Europe/Prague:20250612T143000
DTSTAMP:20260426T043841
CREATED:20250610T083025Z
LAST-MODIFIED:20250610T083025Z
UID:10000309-1749715200-1749738600@www.zsamsdolnibela.cz
SUMMARY:hokejbal (vybraní žáci 3.-5.třída)
DESCRIPTION:
URL:https://www.zsamsdolnibela.cz/event/hokejbal-vybrani-zaci-3-5-trida/
END:VEVENT
BEGIN:VEVENT
DTSTART;TZID=Europe/Prague:20250611T160000
DTEND;TZID=Europe/Prague:20250611T170000
DTSTAMP:20260426T043841
CREATED:20250610T082907Z
LAST-MODIFIED:20250610T082907Z
UID:10000308-1749657600-1749661200@www.zsamsdolnibela.cz
SUMMARY:úvodní schůzky pro žáky budoucích prvních tříd
DESCRIPTION:
URL:https://www.zsamsdolnibela.cz/event/uvodni-schuzky-pro-zaky-budoucich-prvnich-trid/
END:VEVENT
BEGIN:VEVENT
DTSTART;TZID=Europe/Prague:20250610T080000
DTEND;TZID=Europe/Prague:20250610T170000
DTSTAMP:20260426T043841
CREATED:20250328T105138Z
LAST-MODIFIED:20250328T105138Z
UID:10000300-1749542400-1749574800@www.zsamsdolnibela.cz
SUMMARY:preventivní program Závislosti (6.třída)
DESCRIPTION:
URL:https://www.zsamsdolnibela.cz/event/preventivni-program-zavislosti-6-trida-3/
END:VEVENT
BEGIN:VEVENT
DTSTART;TZID=Europe/Prague:20250610T080000
DTEND;TZID=Europe/Prague:20250610T170000
DTSTAMP:20260426T043841
CREATED:20250328T105101Z
LAST-MODIFIED:20250502T074125Z
UID:10000299-1749542400-1749574800@www.zsamsdolnibela.cz
SUMMARY:preventivní program Drogy a hry (9.třída)
DESCRIPTION:
URL:https://www.zsamsdolnibela.cz/event/preventivni-program-drogy-a-hry-8-trida-3/
END:VEVENT
BEGIN:VEVENT
DTSTART;TZID=Europe/Prague:20250610T080000
DTEND;TZID=Europe/Prague:20250610T153000
DTSTAMP:20260426T043841
CREATED:20250610T083221Z
LAST-MODIFIED:20250610T083221Z
UID:10000306-1749542400-1749569400@www.zsamsdolnibela.cz
SUMMARY:školní výlet Nečtiny - 5.třída
DESCRIPTION:
URL:https://www.zsamsdolnibela.cz/event/skolni-vylet-5-trida-3/
END:VEVENT
END:VCALENDAR