BEGIN:VCALENDAR
VERSION:2.0
PRODID:-//Základní škola a Mateřská škola Dolní Bělá - ECPv6.2.0.1//NONSGML v1.0//EN
CALSCALE:GREGORIAN
METHOD:PUBLISH
X-WR-CALNAME:Základní škola a Mateřská škola Dolní Bělá
X-ORIGINAL-URL:https://www.zsamsdolnibela.cz
X-WR-CALDESC:Akce na Základní škola a Mateřská škola Dolní Bělá
REFRESH-INTERVAL;VALUE=DURATION:PT1H
X-Robots-Tag:noindex
X-PUBLISHED-TTL:PT1H
BEGIN:VTIMEZONE
TZID:Europe/Prague
BEGIN:DAYLIGHT
TZOFFSETFROM:+0100
TZOFFSETTO:+0200
TZNAME:CEST
DTSTART:20250330T010000
END:DAYLIGHT
BEGIN:STANDARD
TZOFFSETFROM:+0200
TZOFFSETTO:+0100
TZNAME:CET
DTSTART:20251026T010000
END:STANDARD
BEGIN:DAYLIGHT
TZOFFSETFROM:+0100
TZOFFSETTO:+0200
TZNAME:CEST
DTSTART:20260329T010000
END:DAYLIGHT
BEGIN:STANDARD
TZOFFSETFROM:+0200
TZOFFSETTO:+0100
TZNAME:CET
DTSTART:20261025T010000
END:STANDARD
END:VTIMEZONE
BEGIN:VEVENT
DTSTART;TZID=Europe/Prague:20260311T080000
DTEND;TZID=Europe/Prague:20260311T113000
DTSTAMP:20260426T044125
CREATED:20260310T131518Z
LAST-MODIFIED:20260310T131518Z
UID:10000391-1773216000-1773228600@www.zsamsdolnibela.cz
SUMMARY:preventivní program - Selektivní prevence (5.tř.)
DESCRIPTION:
URL:https://www.zsamsdolnibela.cz/event/preventivni-program-selektivni-prevence-5-tr/
END:VEVENT
BEGIN:VEVENT
DTSTART;VALUE=DATE:20260302
DTEND;VALUE=DATE:20260307
DTSTAMP:20260426T044125
CREATED:20260120T101145Z
LAST-MODIFIED:20260120T101145Z
UID:10000383-1772409600-1772841599@www.zsamsdolnibela.cz
SUMMARY:jarní prázdniny
DESCRIPTION:
URL:https://www.zsamsdolnibela.cz/event/jarni-prazdniny-3/
END:VEVENT
BEGIN:VEVENT
DTSTART;TZID=Europe/Prague:20260209T085000
DTEND;TZID=Europe/Prague:20260210T103500
DTSTAMP:20260426T044125
CREATED:20260209T134512Z
LAST-MODIFIED:20260209T134512Z
UID:10000390-1770627000-1770719700@www.zsamsdolnibela.cz
SUMMARY:preventivní program Závslosti (3.třída)
DESCRIPTION:
URL:https://www.zsamsdolnibela.cz/event/preventivni-program-zavslosti-3-trida/
END:VEVENT
BEGIN:VEVENT
DTSTART;TZID=Europe/Prague:20260204T104500
DTEND;TZID=Europe/Prague:20260204T123000
DTSTAMP:20260426T044125
CREATED:20260120T114840Z
LAST-MODIFIED:20260120T114840Z
UID:10000389-1770201900-1770208200@www.zsamsdolnibela.cz
SUMMARY:preventivní program - Dobrodružství dospívání (5.tř.)
DESCRIPTION:
URL:https://www.zsamsdolnibela.cz/event/preventivni-program-dobrodruzstvi-dospivani-5-tr/
END:VEVENT
BEGIN:VEVENT
DTSTART;TZID=Europe/Prague:20260204T083000
DTEND;TZID=Europe/Prague:20260204T103000
DTSTAMP:20260426T044125
CREATED:20260120T101050Z
LAST-MODIFIED:20260120T101050Z
UID:10000382-1770193800-1770201000@www.zsamsdolnibela.cz
SUMMARY:preventivní program Moje cesta na svět (3.třída)
DESCRIPTION:
URL:https://www.zsamsdolnibela.cz/event/preventivni-program-moje-cesta-na-svet-3-trida/
END:VEVENT
BEGIN:VEVENT
DTSTART;TZID=Europe/Prague:20260203T140000
DTEND;TZID=Europe/Prague:20260203T170000
DTSTAMP:20260426T044125
CREATED:20260120T100923Z
LAST-MODIFIED:20260120T100923Z
UID:10000381-1770127200-1770138000@www.zsamsdolnibela.cz
SUMMARY:zápisy do 1.třídy
DESCRIPTION:
URL:https://www.zsamsdolnibela.cz/event/zapisy-do-1-tridy-3/
END:VEVENT
BEGIN:VEVENT
DTSTART;VALUE=DATE:20260130
DTEND;VALUE=DATE:20260131
DTSTAMP:20260426T044125
CREATED:20260120T100740Z
LAST-MODIFIED:20260120T100740Z
UID:10000380-1769731200-1769817599@www.zsamsdolnibela.cz
SUMMARY:pololetní prázdniny
DESCRIPTION:
URL:https://www.zsamsdolnibela.cz/event/pololetni-prazdniny-3/
END:VEVENT
BEGIN:VEVENT
DTSTART;TZID=Europe/Prague:20260129T080000
DTEND;TZID=Europe/Prague:20260129T123000
DTSTAMP:20260426T044125
CREATED:20260120T100720Z
LAST-MODIFIED:20260120T100720Z
UID:10000379-1769673600-1769689800@www.zsamsdolnibela.cz
SUMMARY:pololetní vysvědčení
DESCRIPTION:
URL:https://www.zsamsdolnibela.cz/event/pololetni-vysvedceni-3/
END:VEVENT
BEGIN:VEVENT
DTSTART;TZID=Europe/Prague:20260128T080000
DTEND;TZID=Europe/Prague:20260128T123000
DTSTAMP:20260426T044125
CREATED:20260120T100628Z
LAST-MODIFIED:20260120T100628Z
UID:10000378-1769587200-1769603400@www.zsamsdolnibela.cz
SUMMARY:přijímačky nanečisto (9.třída)
DESCRIPTION:
URL:https://www.zsamsdolnibela.cz/event/prijimacky-nanecisto-9-trida/
END:VEVENT
BEGIN:VEVENT
DTSTART;TZID=Europe/Prague:20260122T080000
DTEND;TZID=Europe/Prague:20260122T150000
DTSTAMP:20260426T044125
CREATED:20260120T100534Z
LAST-MODIFIED:20260120T100534Z
UID:10000377-1769068800-1769094000@www.zsamsdolnibela.cz
SUMMARY:florbal kluci (4.\,5.)
DESCRIPTION:
URL:https://www.zsamsdolnibela.cz/event/florbal-kluci-4-5/
END:VEVENT
BEGIN:VEVENT
DTSTART;TZID=Europe/Prague:20260120T080000
DTEND;TZID=Europe/Prague:20260120T150000
DTSTAMP:20260426T044125
CREATED:20260120T100428Z
LAST-MODIFIED:20260120T100428Z
UID:10000376-1768896000-1768921200@www.zsamsdolnibela.cz
SUMMARY:florbal dívky (4.\, 5.) - krajské kolo
DESCRIPTION:
URL:https://www.zsamsdolnibela.cz/event/florbal-divky-4-5-krajske-kolo/
END:VEVENT
BEGIN:VEVENT
DTSTART;VALUE=DATE:20251222
DTEND;VALUE=DATE:20260105
DTSTAMP:20260426T044125
CREATED:20250905T072043Z
LAST-MODIFIED:20250905T072043Z
UID:10000348-1766361600-1767571199@www.zsamsdolnibela.cz
SUMMARY:vánoční prázdniny
DESCRIPTION:
URL:https://www.zsamsdolnibela.cz/event/vanocni-prazdniny-3/
END:VEVENT
BEGIN:VEVENT
DTSTART;TZID=Europe/Prague:20251218T104500
DTEND;TZID=Europe/Prague:20251218T104500
DTSTAMP:20260426T044125
CREATED:20250905T071758Z
LAST-MODIFIED:20250905T072003Z
UID:10000347-1766054700-1766054700@www.zsamsdolnibela.cz
SUMMARY:preventivní program Bezpečné klima - 5.+6.třída
DESCRIPTION:
URL:https://www.zsamsdolnibela.cz/event/vanocni-prazdniny-2/
END:VEVENT
BEGIN:VEVENT
DTSTART;TZID=Europe/Prague:20251217T100000
DTEND;TZID=Europe/Prague:20251217T113000
DTSTAMP:20260426T044125
CREATED:20251209T120215Z
LAST-MODIFIED:20251209T120215Z
UID:10000375-1765965600-1765971000@www.zsamsdolnibela.cz
SUMMARY:vánoční florbalový turnaj (6.-9.třída)
DESCRIPTION:
URL:https://www.zsamsdolnibela.cz/event/vanocni-florbalovy-turnaj-6-9-trida/
END:VEVENT
BEGIN:VEVENT
DTSTART;TZID=Europe/Prague:20251217T080000
DTEND;TZID=Europe/Prague:20251217T093000
DTSTAMP:20260426T044125
CREATED:20251209T120059Z
LAST-MODIFIED:20251209T120059Z
UID:10000374-1765958400-1765963800@www.zsamsdolnibela.cz
SUMMARY:vánoční florbalový turnaj (2.-5.třída)
DESCRIPTION:
URL:https://www.zsamsdolnibela.cz/event/vanocni-florbalovy-turnaj-2-5-trida/
END:VEVENT
BEGIN:VEVENT
DTSTART;TZID=Europe/Prague:20251216T083000
DTEND;TZID=Europe/Prague:20251216T113000
DTSTAMP:20260426T044125
CREATED:20251209T115940Z
LAST-MODIFIED:20251209T115940Z
UID:10000373-1765873800-1765884600@www.zsamsdolnibela.cz
SUMMARY:předvánoční návštěva kostela v Dolní Bělé (1. stupeň)
DESCRIPTION:
URL:https://www.zsamsdolnibela.cz/event/predvanocni-navsteva-kostela-v-dolni-bele-1-stupen/
END:VEVENT
BEGIN:VEVENT
DTSTART;TZID=Europe/Prague:20251212T090000
DTEND;TZID=Europe/Prague:20251212T103000
DTSTAMP:20260426T044125
CREATED:20251128T102456Z
LAST-MODIFIED:20251209T115322Z
UID:10000369-1765530000-1765535400@www.zsamsdolnibela.cz
SUMMARY:ukázka dravců (1.-9.tř.\, 55kč)
DESCRIPTION:
URL:https://www.zsamsdolnibela.cz/event/ukazja-dravcu-1-9-tr-55kc/
END:VEVENT
BEGIN:VEVENT
DTSTART;TZID=Europe/Prague:20251211T151500
DTEND;TZID=Europe/Prague:20251211T170000
DTSTAMP:20260426T044125
CREATED:20251209T115815Z
LAST-MODIFIED:20251209T115815Z
UID:10000372-1765466100-1765472400@www.zsamsdolnibela.cz
SUMMARY:předvánoční návštěva ZOO Plzeň (nejlepší sběrači hliníku)
DESCRIPTION:
URL:https://www.zsamsdolnibela.cz/event/predvanocni-navsteva-zoo-plzen-nejlepsi-sberaci-hliniku/
END:VEVENT
BEGIN:VEVENT
DTSTART;TZID=Europe/Prague:20251211T113000
DTEND;TZID=Europe/Prague:20251211T154500
DTSTAMP:20260426T044125
CREATED:20251209T115645Z
LAST-MODIFIED:20251209T115645Z
UID:10000371-1765452600-1765467900@www.zsamsdolnibela.cz
SUMMARY:návštěva zvířecího útulku Plzeň  (6.tř.)
DESCRIPTION:
URL:https://www.zsamsdolnibela.cz/event/navsteva-zvireciho-utulku-plzen-6-tr/
END:VEVENT
BEGIN:VEVENT
DTSTART;TZID=Europe/Prague:20251209T080000
DTEND;TZID=Europe/Prague:20251209T150000
DTSTAMP:20260426T044125
CREATED:20251209T115520Z
LAST-MODIFIED:20251209T115520Z
UID:10000370-1765267200-1765292400@www.zsamsdolnibela.cz
SUMMARY:exkurze "předvánoční Plzeň" (3.třída)
DESCRIPTION:
URL:https://www.zsamsdolnibela.cz/event/exkurze-predvanocni-plzen-3-trida/
END:VEVENT
BEGIN:VEVENT
DTSTART;TZID=Europe/Prague:20251202T170000
DTEND;TZID=Europe/Prague:20251202T190000
DTSTAMP:20260426T044125
CREATED:20251030T133245Z
LAST-MODIFIED:20251030T133245Z
UID:10000368-1764694800-1764702000@www.zsamsdolnibela.cz
SUMMARY:vánoční jarmark
DESCRIPTION:
URL:https://www.zsamsdolnibela.cz/event/vanocni-jarmark/
END:VEVENT
BEGIN:VEVENT
DTSTART;TZID=Europe/Prague:20251127T080000
DTEND;TZID=Europe/Prague:20251127T150000
DTSTAMP:20260426T044125
CREATED:20250905T071630Z
LAST-MODIFIED:20250905T071630Z
UID:10000346-1764230400-1764255600@www.zsamsdolnibela.cz
SUMMARY:stolní tenis - 5.-7.třída
DESCRIPTION:
URL:https://www.zsamsdolnibela.cz/event/stolni-tenis-5-7-trida/
END:VEVENT
BEGIN:VEVENT
DTSTART;TZID=Europe/Prague:20251120T104500
DTEND;TZID=Europe/Prague:20251120T122500
DTSTAMP:20260426T044125
CREATED:20250905T071527Z
LAST-MODIFIED:20250905T071527Z
UID:10000345-1763635500-1763641500@www.zsamsdolnibela.cz
SUMMARY:preventivní program Bezpečné klima - 5.\, 6. třída
DESCRIPTION:
URL:https://www.zsamsdolnibela.cz/event/preventivni-program-bezpecne-klima-5-6-trida-2/
END:VEVENT
BEGIN:VEVENT
DTSTART;VALUE=DATE:20251117
DTEND;VALUE=DATE:20251118
DTSTAMP:20260426T044125
CREATED:20250905T071426Z
LAST-MODIFIED:20250905T071426Z
UID:10000344-1763337600-1763423999@www.zsamsdolnibela.cz
SUMMARY:státní svátek
DESCRIPTION:
URL:https://www.zsamsdolnibela.cz/event/statni-svatek-7/
END:VEVENT
BEGIN:VEVENT
DTSTART;TZID=Europe/Prague:20251113T153000
DTEND;TZID=Europe/Prague:20251113T180000
DTSTAMP:20260426T044125
CREATED:20251030T132409Z
LAST-MODIFIED:20251030T132409Z
UID:10000365-1763047800-1763056800@www.zsamsdolnibela.cz
SUMMARY:třídní schůzky - konzultace
DESCRIPTION:
URL:https://www.zsamsdolnibela.cz/event/tridni-schuzky-konzultace-2/
END:VEVENT
BEGIN:VEVENT
DTSTART;TZID=Europe/Prague:20251113T080000
DTEND;TZID=Europe/Prague:20251113T150000
DTSTAMP:20260426T044125
CREATED:20251030T133033Z
LAST-MODIFIED:20251030T133033Z
UID:10000367-1763020800-1763046000@www.zsamsdolnibela.cz
SUMMARY:florbal dívky (8.\, 9. třída)
DESCRIPTION:
URL:https://www.zsamsdolnibela.cz/event/florbal-divky-8-9-trida/
END:VEVENT
BEGIN:VEVENT
DTSTART;TZID=Europe/Prague:20251110T085000
DTEND;TZID=Europe/Prague:20251110T103500
DTSTAMP:20260426T044125
CREATED:20250828T070554Z
LAST-MODIFIED:20250901T071043Z
UID:10000334-1762764600-1762770900@www.zsamsdolnibela.cz
SUMMARY:preventivní program Vogue (8.třída)
DESCRIPTION:
URL:https://www.zsamsdolnibela.cz/event/preventivni-program-vogue-8-trida/
END:VEVENT
BEGIN:VEVENT
DTSTART;TZID=Europe/Prague:20251107T080000
DTEND;TZID=Europe/Prague:20251107T120000
DTSTAMP:20260426T044125
CREATED:20250827T075433Z
LAST-MODIFIED:20250827T075610Z
UID:10000326-1762502400-1762516800@www.zsamsdolnibela.cz
SUMMARY:kurz plavání - 3.\, 4. třída
DESCRIPTION:
URL:https://www.zsamsdolnibela.cz/event/kurz-plavani-3-4-trida/2025-11-07/
END:VEVENT
BEGIN:VEVENT
DTSTART;TZID=Europe/Prague:20251106T080000
DTEND;TZID=Europe/Prague:20251106T150000
DTSTAMP:20260426T044125
CREATED:20251030T132910Z
LAST-MODIFIED:20251030T132910Z
UID:10000366-1762416000-1762441200@www.zsamsdolnibela.cz
SUMMARY:florbal hoši (8.\, 9.tř.)
DESCRIPTION:
URL:https://www.zsamsdolnibela.cz/event/florbal-hosi-8-9-tr/
END:VEVENT
BEGIN:VEVENT
DTSTART;TZID=Europe/Prague:20251104T085000
DTEND;TZID=Europe/Prague:20251104T103500
DTSTAMP:20260426T044125
CREATED:20250828T070429Z
LAST-MODIFIED:20250901T070939Z
UID:10000332-1762246200-1762252500@www.zsamsdolnibela.cz
SUMMARY:preventivní program Vogue (7.třída)
DESCRIPTION:
URL:https://www.zsamsdolnibela.cz/event/preventivni-prgram-vogue-7-trida-2/
END:VEVENT
END:VCALENDAR