BEGIN:VCALENDAR
VERSION:2.0
PRODID:-//Základní škola a Mateřská škola Dolní Bělá - ECPv6.2.0.1//NONSGML v1.0//EN
CALSCALE:GREGORIAN
METHOD:PUBLISH
X-WR-CALNAME:Základní škola a Mateřská škola Dolní Bělá
X-ORIGINAL-URL:https://www.zsamsdolnibela.cz
X-WR-CALDESC:Akce na Základní škola a Mateřská škola Dolní Bělá
REFRESH-INTERVAL;VALUE=DURATION:PT1H
X-Robots-Tag:noindex
X-PUBLISHED-TTL:PT1H
BEGIN:VTIMEZONE
TZID:Europe/Prague
BEGIN:DAYLIGHT
TZOFFSETFROM:+0100
TZOFFSETTO:+0200
TZNAME:CEST
DTSTART:20260329T010000
END:DAYLIGHT
BEGIN:STANDARD
TZOFFSETFROM:+0200
TZOFFSETTO:+0100
TZNAME:CET
DTSTART:20261025T010000
END:STANDARD
END:VTIMEZONE
BEGIN:VEVENT
DTSTART;VALUE=DATE:20260427
DTEND;VALUE=DATE:20260501
DTSTAMP:20260425T173401
CREATED:20260310T132743Z
LAST-MODIFIED:20260310T132743Z
UID:10000399-1777248000-1777593599@www.zsamsdolnibela.cz
SUMMARY:zájezd do Paříže (6.-9.třída)
DESCRIPTION:
URL:https://www.zsamsdolnibela.cz/event/zajezd-do-parize-6-9-trida/
END:VEVENT
BEGIN:VEVENT
DTSTART;TZID=Europe/Prague:20260430T073000
DTEND;TZID=Europe/Prague:20260430T143000
DTSTAMP:20260425T173401
CREATED:20260423T111055Z
LAST-MODIFIED:20260423T111055Z
UID:10000414-1777534200-1777559400@www.zsamsdolnibela.cz
SUMMARY:McDonlad Cup (4.+5.tř.)
DESCRIPTION:
URL:https://www.zsamsdolnibela.cz/event/mcdonlad-cup-4-5-tr/
END:VEVENT
BEGIN:VEVENT
DTSTART;TZID=Europe/Prague:20260504T083000
DTEND;TZID=Europe/Prague:20260504T123000
DTSTAMP:20260425T173401
CREATED:20260423T111218Z
LAST-MODIFIED:20260423T111218Z
UID:10000415-1777883400-1777897800@www.zsamsdolnibela.cz
SUMMARY:focení - závěr školního roku
DESCRIPTION:třídni foto 50Kč \nskupinové/individuální foto – 40Kč
URL:https://www.zsamsdolnibela.cz/event/foceni-zaver-skolniho-roku-3/
END:VEVENT
BEGIN:VEVENT
DTSTART;TZID=Europe/Prague:20260505T083000
DTEND;TZID=Europe/Prague:20260505T103000
DTSTAMP:20260425T173401
CREATED:20260310T132815Z
LAST-MODIFIED:20260310T132815Z
UID:10000400-1777969800-1777977000@www.zsamsdolnibela.cz
SUMMARY:preventivní program Závislosti (6.tř.)
DESCRIPTION:
URL:https://www.zsamsdolnibela.cz/event/preventivni-program-zavislosti-6-tr-3/
END:VEVENT
BEGIN:VEVENT
DTSTART;TZID=Europe/Prague:20260505T103000
DTEND;TZID=Europe/Prague:20260505T123000
DTSTAMP:20260425T173401
CREATED:20260310T132835Z
LAST-MODIFIED:20260310T132835Z
UID:10000401-1777977000-1777984200@www.zsamsdolnibela.cz
SUMMARY:preventivní program Drogy a hry (8.tř.)
DESCRIPTION:
URL:https://www.zsamsdolnibela.cz/event/preventivni-program-drogy-a-hry-8-tr-3/
END:VEVENT
BEGIN:VEVENT
DTSTART;TZID=Europe/Prague:20260512T080000
DTEND;TZID=Europe/Prague:20260512T140000
DTSTAMP:20260425T173401
CREATED:20260310T132950Z
LAST-MODIFIED:20260310T132950Z
UID:10000402-1778572800-1778594400@www.zsamsdolnibela.cz
SUMMARY:atletický 4boj (6.\, 7.tř.)
DESCRIPTION:
URL:https://www.zsamsdolnibela.cz/event/atleticky-4boj-6-7-tr/
END:VEVENT
BEGIN:VEVENT
DTSTART;TZID=Europe/Prague:20260514T073000
DTEND;TZID=Europe/Prague:20260514T150000
DTSTAMP:20260425T173401
CREATED:20260423T111339Z
LAST-MODIFIED:20260423T111339Z
UID:10000416-1778743800-1778770800@www.zsamsdolnibela.cz
SUMMARY:atletický 4boj (8.\,9.tř.)
DESCRIPTION:
URL:https://www.zsamsdolnibela.cz/event/atleticky-4boj-8-9-tr/
END:VEVENT
BEGIN:VEVENT
DTSTART;TZID=Europe/Prague:20260515T080000
DTEND;TZID=Europe/Prague:20260515T160000
DTSTAMP:20260425T173401
CREATED:20260423T111419Z
LAST-MODIFIED:20260423T111419Z
UID:10000417-1778832000-1778860800@www.zsamsdolnibela.cz
SUMMARY:školní výlet 6.třída
DESCRIPTION:
URL:https://www.zsamsdolnibela.cz/event/skolni-vylet-6-trida-2/
END:VEVENT
BEGIN:VEVENT
DTSTART;VALUE=DATE:20260518
DTEND;VALUE=DATE:20260525
DTSTAMP:20260425T173401
CREATED:20251010T130224Z
LAST-MODIFIED:20251010T130224Z
UID:10000364-1779062400-1779667199@www.zsamsdolnibela.cz
SUMMARY:sběr hliníku a baterií
DESCRIPTION:
URL:https://www.zsamsdolnibela.cz/event/sber-hliniku-a-baterii-2/
END:VEVENT
BEGIN:VEVENT
DTSTART;TZID=Europe/Prague:20260602T080000
DTEND;TZID=Europe/Prague:20260602T150000
DTSTAMP:20260425T173401
CREATED:20260423T111644Z
LAST-MODIFIED:20260423T111644Z
UID:10000419-1780387200-1780412400@www.zsamsdolnibela.cz
SUMMARY:turnaj ve vybíjené (4. + 5.třída)
DESCRIPTION:
URL:https://www.zsamsdolnibela.cz/event/turnaj-ve-vybijene-4-5-trida/
END:VEVENT
BEGIN:VEVENT
DTSTART;TZID=Europe/Prague:20260604T080000
DTEND;TZID=Europe/Prague:20260604T150000
DTSTAMP:20260425T173401
CREATED:20260423T111720Z
LAST-MODIFIED:20260423T111746Z
UID:10000420-1780560000-1780585200@www.zsamsdolnibela.cz
SUMMARY:atletický 3boj (3.-5.tř.)
DESCRIPTION:
URL:https://www.zsamsdolnibela.cz/event/atleticky-3boj-3-5-tr/
END:VEVENT
BEGIN:VEVENT
DTSTART;TZID=Europe/Prague:20260611T080000
DTEND;TZID=Europe/Prague:20260611T160000
DTSTAMP:20260425T173401
CREATED:20260423T111836Z
LAST-MODIFIED:20260423T111842Z
UID:10000421-1781164800-1781193600@www.zsamsdolnibela.cz
SUMMARY:školní výlet Karlovy Vary (9.třída)
DESCRIPTION:
URL:https://www.zsamsdolnibela.cz/event/skolni-vylet-karlovy-vary-9-trida/
END:VEVENT
BEGIN:VEVENT
DTSTART;VALUE=DATE:20260617
DTEND;VALUE=DATE:20260620
DTSTAMP:20260425T173401
CREATED:20260310T133043Z
LAST-MODIFIED:20260310T133043Z
UID:10000403-1781654400-1781913599@www.zsamsdolnibela.cz
SUMMARY:cyklovýlet (6.-9.tř.)
DESCRIPTION:
URL:https://www.zsamsdolnibela.cz/event/cyklovylet-6-9-tr/
END:VEVENT
BEGIN:VEVENT
DTSTART;TZID=Europe/Prague:20260618T080000
DTEND;TZID=Europe/Prague:20260618T150000
DTSTAMP:20260425T173401
CREATED:20260424T060927Z
LAST-MODIFIED:20260424T060927Z
UID:10000423-1781769600-1781794800@www.zsamsdolnibela.cz
SUMMARY:školní výlet Bečov (3.+4.třída)
DESCRIPTION:
URL:https://www.zsamsdolnibela.cz/event/skolni-vylet-becov-3-4-trida/
END:VEVENT
BEGIN:VEVENT
DTSTART;TZID=Europe/Prague:20260623T080000
DTEND;TZID=Europe/Prague:20260623T123000
DTSTAMP:20260425T173401
CREATED:20260423T111923Z
LAST-MODIFIED:20260423T111923Z
UID:10000422-1782201600-1782217800@www.zsamsdolnibela.cz
SUMMARY:školní turnaj v přehazované
DESCRIPTION:
URL:https://www.zsamsdolnibela.cz/event/skolni-turnaj-v-prehazovane-2/
END:VEVENT
BEGIN:VEVENT
DTSTART;TZID=Europe/Prague:20260626T080000
DTEND;TZID=Europe/Prague:20260626T090000
DTSTAMP:20260425T173401
CREATED:20260423T111547Z
LAST-MODIFIED:20260423T111547Z
UID:10000418-1782460800-1782464400@www.zsamsdolnibela.cz
SUMMARY:vysvědčení + slavnostní ukončení školního roku
DESCRIPTION:
URL:https://www.zsamsdolnibela.cz/event/vysvedceni-slavnostni-ukonceni-skolniho-roku/
END:VEVENT
END:VCALENDAR