BEGIN:VCALENDAR
VERSION:2.0
PRODID:-//Základní škola a Mateřská škola Dolní Bělá - ECPv6.2.0.1//NONSGML v1.0//EN
CALSCALE:GREGORIAN
METHOD:PUBLISH
X-ORIGINAL-URL:https://www.zsamsdolnibela.cz
X-WR-CALDESC:Akce na Základní škola a Mateřská škola Dolní Bělá
REFRESH-INTERVAL;VALUE=DURATION:PT1H
X-Robots-Tag:noindex
X-PUBLISHED-TTL:PT1H
BEGIN:VTIMEZONE
TZID:Europe/Prague
BEGIN:DAYLIGHT
TZOFFSETFROM:+0100
TZOFFSETTO:+0200
TZNAME:CEST
DTSTART:20260329T010000
END:DAYLIGHT
BEGIN:STANDARD
TZOFFSETFROM:+0200
TZOFFSETTO:+0100
TZNAME:CET
DTSTART:20261025T010000
END:STANDARD
END:VTIMEZONE
BEGIN:VEVENT
DTSTART;TZID=Europe/Prague:20260417T170000
DTEND;TZID=Europe/Prague:20260417T190000
DTSTAMP:20260425T173142
CREATED:20260415T142122Z
LAST-MODIFIED:20260415T142122Z
UID:10000410-1776445200-1776452400@www.zsamsdolnibela.cz
SUMMARY:Brigáda v areálu školy
DESCRIPTION:
URL:https://www.zsamsdolnibela.cz/event/brigada-v-arealu-skoly/
END:VEVENT
BEGIN:VEVENT
DTSTART;TZID=Europe/Prague:20260417T170000
DTEND;TZID=Europe/Prague:20260417T190000
DTSTAMP:20260425T173142
CREATED:20260331T095805Z
LAST-MODIFIED:20260423T110602Z
UID:10000407-1776445200-1776452400@www.zsamsdolnibela.cz
SUMMARY:akce školské rady - rodičovská brigáda
DESCRIPTION:
URL:https://www.zsamsdolnibela.cz/event/velikonocni-pondeli-2/
END:VEVENT
BEGIN:VEVENT
DTSTART;TZID=Europe/Prague:20260417T080000
DTEND;TZID=Europe/Prague:20260417T113000
DTSTAMP:20260425T173142
CREATED:20260415T142034Z
LAST-MODIFIED:20260415T142034Z
UID:10000409-1776412800-1776425400@www.zsamsdolnibela.cz
SUMMARY:Ukliďme Dolní Bělou
DESCRIPTION:
URL:https://www.zsamsdolnibela.cz/event/uklidme-dolni-belou/
END:VEVENT
BEGIN:VEVENT
DTSTART;TZID=Europe/Prague:20260414T153000
DTEND;TZID=Europe/Prague:20260414T173000
DTSTAMP:20260425T173142
CREATED:20260331T094856Z
LAST-MODIFIED:20260331T094856Z
UID:10000406-1776180600-1776187800@www.zsamsdolnibela.cz
SUMMARY:třídní schůzky
DESCRIPTION:
URL:https://www.zsamsdolnibela.cz/event/tridni-schuzky-3/
END:VEVENT
BEGIN:VEVENT
DTSTART;TZID=Europe/Prague:20260414T103000
DTEND;TZID=Europe/Prague:20260414T123000
DTSTAMP:20260425T173142
CREATED:20260310T132601Z
LAST-MODIFIED:20260310T132601Z
UID:10000397-1776162600-1776169800@www.zsamsdolnibela.cz
SUMMARY:preventivní program Drogy a hry (8.tř.)
DESCRIPTION:
URL:https://www.zsamsdolnibela.cz/event/preventivni-program-drogy-a-hry-8-tr-2/
END:VEVENT
BEGIN:VEVENT
DTSTART;TZID=Europe/Prague:20260414T083000
DTEND;TZID=Europe/Prague:20260414T103000
DTSTAMP:20260425T173142
CREATED:20260310T132631Z
LAST-MODIFIED:20260310T132631Z
UID:10000398-1776155400-1776162600@www.zsamsdolnibela.cz
SUMMARY:preventivní program Závislosti (6.tř.)
DESCRIPTION:
URL:https://www.zsamsdolnibela.cz/event/preventivni-program-zavislosti-6-tr-2/
END:VEVENT
BEGIN:VEVENT
DTSTART;TZID=Europe/Prague:20260413T080000
DTEND;TZID=Europe/Prague:20260413T140000
DTSTAMP:20260425T173142
CREATED:20260317T091546Z
LAST-MODIFIED:20260317T091546Z
UID:10000405-1776067200-1776088800@www.zsamsdolnibela.cz
SUMMARY:přijímací zkoušky (9.třída)
DESCRIPTION:
URL:https://www.zsamsdolnibela.cz/event/prijimaci-zkousky-9-trida-4/
END:VEVENT
BEGIN:VEVENT
DTSTART;TZID=Europe/Prague:20260410T080000
DTEND;TZID=Europe/Prague:20260410T140000
DTSTAMP:20260425T173142
CREATED:20260317T091514Z
LAST-MODIFIED:20260317T091514Z
UID:10000404-1775808000-1775829600@www.zsamsdolnibela.cz
SUMMARY:přijímací zkoušky (9.třída)
DESCRIPTION:
URL:https://www.zsamsdolnibela.cz/event/prijimaci-zkousky-9-trida-3/
END:VEVENT
BEGIN:VEVENT
DTSTART;TZID=Europe/Prague:20260409T063000
DTEND;TZID=Europe/Prague:20260409T160000
DTSTAMP:20260425T173142
CREATED:20260310T132515Z
LAST-MODIFIED:20260310T132515Z
UID:10000396-1775716200-1775750400@www.zsamsdolnibela.cz
SUMMARY:celorepublikové kolo florbalového turnaje - Praha (3.-5.tř.)
DESCRIPTION:
URL:https://www.zsamsdolnibela.cz/event/celorepublikove-kolo-florbaloveho-turnaje-praha-3-5-tr/
END:VEVENT
BEGIN:VEVENT
DTSTART;VALUE=DATE:20260406
DTEND;VALUE=DATE:20260407
DTSTAMP:20260425T173142
CREATED:20260331T100028Z
LAST-MODIFIED:20260331T100028Z
UID:10000408-1775433600-1775519999@www.zsamsdolnibela.cz
SUMMARY:velikonoční pondělí
DESCRIPTION:
URL:https://www.zsamsdolnibela.cz/event/velikonocni-pondeli-3/
END:VEVENT
BEGIN:VEVENT
DTSTART;VALUE=DATE:20260403
DTEND;VALUE=DATE:20260404
DTSTAMP:20260425T173142
CREATED:20260120T101631Z
LAST-MODIFIED:20260120T101631Z
UID:10000388-1775174400-1775260799@www.zsamsdolnibela.cz
SUMMARY:Velký pátek
DESCRIPTION:
URL:https://www.zsamsdolnibela.cz/event/velky-patek-2/
END:VEVENT
BEGIN:VEVENT
DTSTART;VALUE=DATE:20260402
DTEND;VALUE=DATE:20260403
DTSTAMP:20260425T173142
CREATED:20260120T101606Z
LAST-MODIFIED:20260120T101606Z
UID:10000387-1775088000-1775174399@www.zsamsdolnibela.cz
SUMMARY:velikonoční prázdniny
DESCRIPTION:
URL:https://www.zsamsdolnibela.cz/event/velikonocni-prazdniny-3/
END:VEVENT
BEGIN:VEVENT
DTSTART;TZID=Europe/Prague:20260331T080000
DTEND;TZID=Europe/Prague:20260331T140000
DTSTAMP:20260425T173142
CREATED:20260310T132240Z
LAST-MODIFIED:20260310T132240Z
UID:10000395-1774944000-1774965600@www.zsamsdolnibela.cz
SUMMARY:soutěž v pohybových hrách (4.-7.tř.)
DESCRIPTION:
URL:https://www.zsamsdolnibela.cz/event/soutez-v-pohybovych-hrach-4-7-tr/
END:VEVENT
BEGIN:VEVENT
DTSTART;TZID=Europe/Prague:20260330T080000
DTEND;TZID=Europe/Prague:20260330T140000
DTSTAMP:20260425T173142
CREATED:20260120T101536Z
LAST-MODIFIED:20260120T101536Z
UID:10000386-1774857600-1774879200@www.zsamsdolnibela.cz
SUMMARY:exkurze - klášter Teplá (3.\,4.třída)
DESCRIPTION:
URL:https://www.zsamsdolnibela.cz/event/exkurze-klaster-tepla-3-4-trida/
END:VEVENT
BEGIN:VEVENT
DTSTART;TZID=Europe/Prague:20260326T080000
DTEND;TZID=Europe/Prague:20260326T140000
DTSTAMP:20260425T173142
CREATED:20260310T132139Z
LAST-MODIFIED:20260310T132139Z
UID:10000394-1774512000-1774533600@www.zsamsdolnibela.cz
SUMMARY:turnaj ve vybíjené (4.+5. tř.)
DESCRIPTION:
URL:https://www.zsamsdolnibela.cz/event/turnaj-ve-vybijene-4-5-tr/
END:VEVENT
BEGIN:VEVENT
DTSTART;TZID=Europe/Prague:20260319T080000
DTEND;TZID=Europe/Prague:20260319T140000
DTSTAMP:20260425T173142
CREATED:20260310T131834Z
LAST-MODIFIED:20260310T131834Z
UID:10000393-1773907200-1773928800@www.zsamsdolnibela.cz
SUMMARY:turnaj v házené (dívky\, 6.+7.třída)
DESCRIPTION:
URL:https://www.zsamsdolnibela.cz/event/turnaj-v-hazene-divky-6-7-trida/
END:VEVENT
BEGIN:VEVENT
DTSTART;TZID=Europe/Prague:20260317T103000
DTEND;TZID=Europe/Prague:20260317T123000
DTSTAMP:20260425T173142
CREATED:20260120T101355Z
LAST-MODIFIED:20260310T131738Z
UID:10000385-1773743400-1773750600@www.zsamsdolnibela.cz
SUMMARY:preventivní program Drogy a hry (8.tř.)
DESCRIPTION:
URL:https://www.zsamsdolnibela.cz/event/preventivni-program-drogy-a-hry-8-tr/
END:VEVENT
BEGIN:VEVENT
DTSTART;TZID=Europe/Prague:20260317T083000
DTEND;TZID=Europe/Prague:20260317T103000
DTSTAMP:20260425T173142
CREATED:20260120T101303Z
LAST-MODIFIED:20260310T131716Z
UID:10000384-1773736200-1773743400@www.zsamsdolnibela.cz
SUMMARY:preventivní program Závislosti (6.tř.)
DESCRIPTION:
URL:https://www.zsamsdolnibela.cz/event/preventivni-program-zavislosti-6-tr/
END:VEVENT
BEGIN:VEVENT
DTSTART;TZID=Europe/Prague:20260313T080000
DTEND;TZID=Europe/Prague:20260313T140000
DTSTAMP:20260425T173142
CREATED:20260310T131623Z
LAST-MODIFIED:20260310T131623Z
UID:10000392-1773388800-1773410400@www.zsamsdolnibela.cz
SUMMARY:okresní kolo recitační soutěže - 2. stupeň (vybraní žáci)
DESCRIPTION:
URL:https://www.zsamsdolnibela.cz/event/okresni-kolo-recitacni-souteze-2-stupen-vybrani-zaci/
END:VEVENT
BEGIN:VEVENT
DTSTART;TZID=Europe/Prague:20260311T080000
DTEND;TZID=Europe/Prague:20260311T113000
DTSTAMP:20260425T173142
CREATED:20260310T131518Z
LAST-MODIFIED:20260310T131518Z
UID:10000391-1773216000-1773228600@www.zsamsdolnibela.cz
SUMMARY:preventivní program - Selektivní prevence (5.tř.)
DESCRIPTION:
URL:https://www.zsamsdolnibela.cz/event/preventivni-program-selektivni-prevence-5-tr/
END:VEVENT
BEGIN:VEVENT
DTSTART;VALUE=DATE:20260302
DTEND;VALUE=DATE:20260307
DTSTAMP:20260425T173142
CREATED:20260120T101145Z
LAST-MODIFIED:20260120T101145Z
UID:10000383-1772409600-1772841599@www.zsamsdolnibela.cz
SUMMARY:jarní prázdniny
DESCRIPTION:
URL:https://www.zsamsdolnibela.cz/event/jarni-prazdniny-3/
END:VEVENT
BEGIN:VEVENT
DTSTART;TZID=Europe/Prague:20260209T085000
DTEND;TZID=Europe/Prague:20260210T103500
DTSTAMP:20260425T173142
CREATED:20260209T134512Z
LAST-MODIFIED:20260209T134512Z
UID:10000390-1770627000-1770719700@www.zsamsdolnibela.cz
SUMMARY:preventivní program Závslosti (3.třída)
DESCRIPTION:
URL:https://www.zsamsdolnibela.cz/event/preventivni-program-zavslosti-3-trida/
END:VEVENT
BEGIN:VEVENT
DTSTART;TZID=Europe/Prague:20260204T104500
DTEND;TZID=Europe/Prague:20260204T123000
DTSTAMP:20260425T173142
CREATED:20260120T114840Z
LAST-MODIFIED:20260120T114840Z
UID:10000389-1770201900-1770208200@www.zsamsdolnibela.cz
SUMMARY:preventivní program - Dobrodružství dospívání (5.tř.)
DESCRIPTION:
URL:https://www.zsamsdolnibela.cz/event/preventivni-program-dobrodruzstvi-dospivani-5-tr/
END:VEVENT
BEGIN:VEVENT
DTSTART;TZID=Europe/Prague:20260204T083000
DTEND;TZID=Europe/Prague:20260204T103000
DTSTAMP:20260425T173142
CREATED:20260120T101050Z
LAST-MODIFIED:20260120T101050Z
UID:10000382-1770193800-1770201000@www.zsamsdolnibela.cz
SUMMARY:preventivní program Moje cesta na svět (3.třída)
DESCRIPTION:
URL:https://www.zsamsdolnibela.cz/event/preventivni-program-moje-cesta-na-svet-3-trida/
END:VEVENT
BEGIN:VEVENT
DTSTART;TZID=Europe/Prague:20260203T140000
DTEND;TZID=Europe/Prague:20260203T170000
DTSTAMP:20260425T173142
CREATED:20260120T100923Z
LAST-MODIFIED:20260120T100923Z
UID:10000381-1770127200-1770138000@www.zsamsdolnibela.cz
SUMMARY:zápisy do 1.třídy
DESCRIPTION:
URL:https://www.zsamsdolnibela.cz/event/zapisy-do-1-tridy-3/
END:VEVENT
BEGIN:VEVENT
DTSTART;VALUE=DATE:20260130
DTEND;VALUE=DATE:20260131
DTSTAMP:20260425T173142
CREATED:20260120T100740Z
LAST-MODIFIED:20260120T100740Z
UID:10000380-1769731200-1769817599@www.zsamsdolnibela.cz
SUMMARY:pololetní prázdniny
DESCRIPTION:
URL:https://www.zsamsdolnibela.cz/event/pololetni-prazdniny-3/
END:VEVENT
BEGIN:VEVENT
DTSTART;TZID=Europe/Prague:20260129T080000
DTEND;TZID=Europe/Prague:20260129T123000
DTSTAMP:20260425T173142
CREATED:20260120T100720Z
LAST-MODIFIED:20260120T100720Z
UID:10000379-1769673600-1769689800@www.zsamsdolnibela.cz
SUMMARY:pololetní vysvědčení
DESCRIPTION:
URL:https://www.zsamsdolnibela.cz/event/pololetni-vysvedceni-3/
END:VEVENT
BEGIN:VEVENT
DTSTART;TZID=Europe/Prague:20260128T080000
DTEND;TZID=Europe/Prague:20260128T123000
DTSTAMP:20260425T173142
CREATED:20260120T100628Z
LAST-MODIFIED:20260120T100628Z
UID:10000378-1769587200-1769603400@www.zsamsdolnibela.cz
SUMMARY:přijímačky nanečisto (9.třída)
DESCRIPTION:
URL:https://www.zsamsdolnibela.cz/event/prijimacky-nanecisto-9-trida/
END:VEVENT
BEGIN:VEVENT
DTSTART;TZID=Europe/Prague:20260122T080000
DTEND;TZID=Europe/Prague:20260122T150000
DTSTAMP:20260425T173142
CREATED:20260120T100534Z
LAST-MODIFIED:20260120T100534Z
UID:10000377-1769068800-1769094000@www.zsamsdolnibela.cz
SUMMARY:florbal kluci (4.\,5.)
DESCRIPTION:
URL:https://www.zsamsdolnibela.cz/event/florbal-kluci-4-5/
END:VEVENT
BEGIN:VEVENT
DTSTART;TZID=Europe/Prague:20260120T080000
DTEND;TZID=Europe/Prague:20260120T150000
DTSTAMP:20260425T173142
CREATED:20260120T100428Z
LAST-MODIFIED:20260120T100428Z
UID:10000376-1768896000-1768921200@www.zsamsdolnibela.cz
SUMMARY:florbal dívky (4.\, 5.) - krajské kolo
DESCRIPTION:
URL:https://www.zsamsdolnibela.cz/event/florbal-divky-4-5-krajske-kolo/
END:VEVENT
END:VCALENDAR