BEGIN:VCALENDAR
VERSION:2.0
PRODID:-//Základní škola a Mateřská škola Dolní Bělá - ECPv6.2.0.1//NONSGML v1.0//EN
CALSCALE:GREGORIAN
METHOD:PUBLISH
X-ORIGINAL-URL:https://www.zsamsdolnibela.cz
X-WR-CALDESC:Akce na Základní škola a Mateřská škola Dolní Bělá
REFRESH-INTERVAL;VALUE=DURATION:PT1H
X-Robots-Tag:noindex
X-PUBLISHED-TTL:PT1H
BEGIN:VTIMEZONE
TZID:Europe/Prague
BEGIN:DAYLIGHT
TZOFFSETFROM:+0100
TZOFFSETTO:+0200
TZNAME:CEST
DTSTART:20260329T010000
END:DAYLIGHT
BEGIN:STANDARD
TZOFFSETFROM:+0200
TZOFFSETTO:+0100
TZNAME:CET
DTSTART:20261025T010000
END:STANDARD
END:VTIMEZONE
BEGIN:VEVENT
DTSTART;VALUE=DATE:20260617
DTEND;VALUE=DATE:20260620
DTSTAMP:20260425T183723
CREATED:20260310T133043Z
LAST-MODIFIED:20260310T133043Z
UID:10000403-1781654400-1781913599@www.zsamsdolnibela.cz
SUMMARY:cyklovýlet (6.-9.tř.)
DESCRIPTION:
URL:https://www.zsamsdolnibela.cz/event/cyklovylet-6-9-tr/
END:VEVENT
END:VCALENDAR