BEGIN:VCALENDAR
VERSION:2.0
PRODID:-//Základní škola a Mateřská škola Dolní Bělá - ECPv6.2.0.1//NONSGML v1.0//EN
CALSCALE:GREGORIAN
METHOD:PUBLISH
X-ORIGINAL-URL:https://www.zsamsdolnibela.cz
X-WR-CALDESC:Akce na Základní škola a Mateřská škola Dolní Bělá
REFRESH-INTERVAL;VALUE=DURATION:PT1H
X-Robots-Tag:noindex
X-PUBLISHED-TTL:PT1H
BEGIN:VTIMEZONE
TZID:Europe/Prague
BEGIN:DAYLIGHT
TZOFFSETFROM:+0100
TZOFFSETTO:+0200
TZNAME:CEST
DTSTART:20250330T010000
END:DAYLIGHT
BEGIN:STANDARD
TZOFFSETFROM:+0200
TZOFFSETTO:+0100
TZNAME:CET
DTSTART:20251026T010000
END:STANDARD
END:VTIMEZONE
BEGIN:VEVENT
DTSTART;TZID=Europe/Prague:20251211T113000
DTEND;TZID=Europe/Prague:20251211T154500
DTSTAMP:20260426T014939
CREATED:20251209T115645Z
LAST-MODIFIED:20251209T115645Z
UID:10000371-1765452600-1765467900@www.zsamsdolnibela.cz
SUMMARY:návštěva zvířecího útulku Plzeň  (6.tř.)
DESCRIPTION:
URL:https://www.zsamsdolnibela.cz/event/navsteva-zvireciho-utulku-plzen-6-tr/
END:VEVENT
BEGIN:VEVENT
DTSTART;TZID=Europe/Prague:20251211T151500
DTEND;TZID=Europe/Prague:20251211T170000
DTSTAMP:20260426T014939
CREATED:20251209T115815Z
LAST-MODIFIED:20251209T115815Z
UID:10000372-1765466100-1765472400@www.zsamsdolnibela.cz
SUMMARY:předvánoční návštěva ZOO Plzeň (nejlepší sběrači hliníku)
DESCRIPTION:
URL:https://www.zsamsdolnibela.cz/event/predvanocni-navsteva-zoo-plzen-nejlepsi-sberaci-hliniku/
END:VEVENT
END:VCALENDAR