BEGIN:VCALENDAR
VERSION:2.0
PRODID:-//Základní škola a Mateřská škola Dolní Bělá - ECPv6.2.0.1//NONSGML v1.0//EN
CALSCALE:GREGORIAN
METHOD:PUBLISH
X-WR-CALNAME:Základní škola a Mateřská škola Dolní Bělá
X-ORIGINAL-URL:https://www.zsamsdolnibela.cz
X-WR-CALDESC:Akce na Základní škola a Mateřská škola Dolní Bělá
REFRESH-INTERVAL;VALUE=DURATION:PT1H
X-Robots-Tag:noindex
X-PUBLISHED-TTL:PT1H
BEGIN:VTIMEZONE
TZID:Europe/Prague
BEGIN:DAYLIGHT
TZOFFSETFROM:+0100
TZOFFSETTO:+0200
TZNAME:CEST
DTSTART:20250330T010000
END:DAYLIGHT
BEGIN:STANDARD
TZOFFSETFROM:+0200
TZOFFSETTO:+0100
TZNAME:CET
DTSTART:20251026T010000
END:STANDARD
END:VTIMEZONE
BEGIN:VEVENT
DTSTART;VALUE=DATE:20251013
DTEND;VALUE=DATE:20251020
DTSTAMP:20260426T045805
CREATED:20251010T130033Z
LAST-MODIFIED:20251010T130033Z
UID:10000363-1760313600-1760918399@www.zsamsdolnibela.cz
SUMMARY:sběr hliníku a baterií
DESCRIPTION:
URL:https://www.zsamsdolnibela.cz/event/sber-hliniku-a-baterii/
END:VEVENT
BEGIN:VEVENT
DTSTART;TZID=Europe/Prague:20251016T095000
DTEND;TZID=Europe/Prague:20251016T122500
DTSTAMP:20260426T045805
CREATED:20250905T070904Z
LAST-MODIFIED:20250905T070904Z
UID:10000339-1760608200-1760617500@www.zsamsdolnibela.cz
SUMMARY:preventivní program - Bezpečné klima\, 5. + 6. třída
DESCRIPTION:
URL:https://www.zsamsdolnibela.cz/event/preventivni-program-bezpecne-klima-5-6-trida/
END:VEVENT
END:VCALENDAR