BEGIN:VCALENDAR
VERSION:2.0
PRODID:-//Základní škola a Mateřská škola Dolní Bělá - ECPv6.2.0.1//NONSGML v1.0//EN
CALSCALE:GREGORIAN
METHOD:PUBLISH
X-ORIGINAL-URL:https://www.zsamsdolnibela.cz
X-WR-CALDESC:Akce na Základní škola a Mateřská škola Dolní Bělá
REFRESH-INTERVAL;VALUE=DURATION:PT1H
X-Robots-Tag:noindex
X-PUBLISHED-TTL:PT1H
BEGIN:VTIMEZONE
TZID:Europe/Prague
BEGIN:DAYLIGHT
TZOFFSETFROM:+0100
TZOFFSETTO:+0200
TZNAME:CEST
DTSTART:20250330T010000
END:DAYLIGHT
BEGIN:STANDARD
TZOFFSETFROM:+0200
TZOFFSETTO:+0100
TZNAME:CET
DTSTART:20251026T010000
END:STANDARD
END:VTIMEZONE
BEGIN:VEVENT
DTSTART;TZID=Europe/Prague:20251011T080000
DTEND;TZID=Europe/Prague:20251011T170000
DTSTAMP:20260426T050914
CREATED:20250905T070724Z
LAST-MODIFIED:20250905T070724Z
UID:10000338-1760169600-1760202000@www.zsamsdolnibela.cz
SUMMARY:60. vlastivědný zájezd - Kněževes\, Roztoky\, Levý Hradec\, Okoř
DESCRIPTION:
URL:https://www.zsamsdolnibela.cz/event/60-vlastivedny-zajezd-knezeves-roztoky-levy-hradec-okor/
END:VEVENT
END:VCALENDAR